BEGIN:VCALENDAR
VERSION:2.0
PRODID:-//hacksw/handcal//NONSGML v1.0//EN
BEGIN:VEVENT
SUMMARY:Rencontre amicale interclubs Pickleball
UID:e536e9b3-b969-4452-b1c0-367ef838a022
DTSTART:20260411T070000Z
DTEND:20260411T140000Z
LOCATION:Localisation Halle des sports - La Calmette Rue des cocons 30190 la Calmette
CATEGORIES:Sportif
STATUS:
DESCRIPTION:<p>﻿<strong><u>﻿Programme</u></strong> :</p>
 
 <p>09h
 Cafe de bienvenue.<br>
 09h30 Debut du tournoi.<br>
 12h30 Pause
 dejeuner<br>
 Aperitif offert par le CODERS<br>
 Apporter son verre
 eco-responsable<br>
 Repas tire du sac<br>
 14h00 Reprise du
 tournoi<br>
 16h00 Remise des
 medailles</p>
 
 <p> </p>
 
 <p><strong><u>Inscription aupres
 de</u></strong> :<br>
 Herve Forget : rv256@free.fr<br>
 Patrick
 Malaize : patgely@aol.com</p>
 
 <p> </p>
 
 <p> </p>
URL;VALUE=URI:https://www.coders30.com/evenements/2026/04/11/rencontre-amicale-interclubs-pickleball-2426046
END:VEVENT
END:VCALENDAR
